BEGIN:VCALENDAR
VERSION:2.0
METHOD:PUBLISH
BEGIN:VEVENT
UID:WILD_APRICOT_EVENT_674799_SESSION_1
DTSTART:20130706T140000Z
DTEND:20130713T140000Z
SUMMARY:Educational Leadership Study Tours to Thailand
LOCATION:Bangkok
DESCRIPTION:http://aust-thai.org.au/event-674799\n\n   Bluelight: Revealing leadership across cultures                                                                                                           \n            Dates: 7–13 July\, 2013\n            This intensive program\, located at the College of Management\, Mahidol University (CMMU)\, Bangkok\, inspires leaders to achieve personal and professional excellence in developing Asia relevant capabilities and capacity to lead Asia literate schools.\n            The program provides opportunities to network with other educational leaders who have spent most of their professional careers in Southeast and East Asia\, but retain a solid understanding of education in Western countries.\n            This program is delivered by the Asia-Pacific Centre for Leadership and Change (APCLC) at the Hong Kong Institute of Education (HKIEd) in conjunction with the Asia Education Foundation (AEF).\n            Program Information PDF 328 KB\n                         
DTSTAMP:20200228T051501Z
END:VEVENT
END:VCALENDAR
