BEGIN:VCALENDAR
VERSION:2.0
METHOD:PUBLISH
BEGIN:VEVENT
UID:WILD_APRICOT_EVENT_633378_SESSION_1
DTSTART:20140315T000000Z
DTEND:20140316T100000Z
SUMMARY:Thai Culture and Food Festival
LOCATION:Federation Square\, Melbourne
DESCRIPTION:http://aust-thai.org.au/event-633378\n\nFor more information visit:\n http://www.thaifestvic.com/\n
DTSTAMP:20200228T051447Z
END:VEVENT
END:VCALENDAR
