BEGIN:VCALENDAR
VERSION:2.0
METHOD:PUBLISH
BEGIN:VEVENT
UID:WILD_APRICOT_EVENT_563454_SESSION_1
DTSTART:20121111T220000Z
DTEND:20121113T110000Z
SUMMARY:2012 Australia Thailand Business Conference - Australia & Thailand in an Integrated Asia
LOCATION:The St. Regis Bangkok\, 159 Rajadamri Rd.\, Bangkok\, Thailand
DESCRIPTION:http://aust-thai.org.au/event-563454\n\nGolf Day at Thana City Golf & Sports Club on Monday 12 November:\n      * Shotgun start (best ball) 10am Registration from 9am\n\n  Dinner on Monday 12 November:\n     Between rousing giants - ASEAN\, China and India (Keynote Dinner)        * Gilles Plante\, CEO Asia\, ANZ (Confirmed)\n\n        * Dr Sarasin Viraphol Executive Vice President\, CP Group (Confirmed)\n   (Welcome drinks from 6pm\; dinner at 7pm) \n\n     Conference on Tuesday 13 November:      Leveraging national strengths in an integrated Asia          * Tevin Vongvanich\, President and CEO\, PTT Exploration and Production PCL (Confirmed)\n\n          * Krisda Monthienvichienchai\, CEO\, Mitr Phol Sugar (Confirmed)\n\n          * Rohini Kappadath\, Director of Cross-border Business\, Baker Tilly Pitcher Partners\, Australia (Confirmed)\n\n          * Carey Ramm\, Executive Chairman and Principal Economist\, AEC Group (Confirmed)\n\n         Regional connectivity - pipelines\, planes\, trains and automobiles             * Dr Porametee Vimolsiri\, National Economic and Social Development Board (Confirmed)\n\n          * Craig M. Steffensen\, Country Directory\, Thailand Resident Mission\, Asian Development Bank\n\n         Australia\, the Asian Century and geopolitical pressures(Keynote Luncheon)           * Dr Michael Wesley\, Professor of National Security\, ANU (Confirmed)\n\n          * H.E James Wise\, Australian Ambassador to the Kingdom of Thailand (Confirmed)\n\n         Thailand - gateway to Myanmar and the Mekong sub-region             * Mr Charamporn Jotikasthira\, President\, Stock Exchange of Thailand (Confirmed)\n\n          * Dr Kobsak Pootrakool\, Executive VP\, Bangkok Bank PCL (confirmed)\n\n          * Manop Sangiambut\, Executive VP\, Siam Commercial Bank PCL (Confirmed)\n\n         Productivity and skills - an imperative in an integrated Asia             * Dr Kirida Bhaopichitr\, Senior Economist\, The World Bank (Confirmed)\n\n          * Dr Bandid Nijathaworn\, CEO and President\, Thai Institute of Directors Association (Confirmed)\n\n          * Greg Wallis\, Senior Trade Commissioner Thailand\, Australian Trade Commission\n\n         Post-conference drinks and networking            \n            \n            \n            Tickets:           * 8\,500 baht - Conference and Dinner\n\n          * 7\,000 baht - Conference Only (Tuesday 13 November 9am-6pm)\n\n          * 2\,000 baht - Dinner Only (Monday 12 November from 6pm)\n\n          * 4\,000 baht - Golf Day Only (Monday 12 November 10am shotgun start)\n\n         (Early bird discount 10% available for AustCham and ATBC Members)            \n            Website: www.austchamconference.com            \n            Contact: Mark Carroll                 execdirector@austchamthailand.com                 Tel. +662 210 0216            \n            Sponsorship opportunities available.    
DTSTAMP:20200228T051617Z
END:VEVENT
END:VCALENDAR
