BEGIN:VCALENDAR
VERSION:2.0
METHOD:PUBLISH
BEGIN:VEVENT
UID:WILD_APRICOT_EVENT_523592_SESSION_1
DTSTART:20120907T030000Z
DTEND:20120907T080000Z
SUMMARY:Business Bootcamp "Cracking Thai Business Fundamentals" with StuJay Raj
LOCATION:Allens\, Level 28\, Deutsche Bank Place\, 126 Philip Street\, Sydney
DESCRIPTION:http://aust-thai.org.au/event-523592\n\nThe Australia Thailand Business Council presents:\n\n   \n  ‘Cracking Thai Fundamentals’ Workshop with Stuart Jay Raj\n   \n  Date:          Friday 7th September 2012\, 1:00pm - 6:00pm\n  Venue:       Allens\, Level 28\, Deutsche Bank Place\, 126 Phillip Street\, Sydney\n  \nProgram Details: \n   \n  Cracking Thai Fundamentals Business Bootcamp:\n  by Stuart Jay Raj (an Aussie-Thai-Indian polyglot)\n   \n  Stuart has been offering various courses to businesses in Thailand for fifteen years\, to help them work better with culturally mixed teams.  Stu believes that the key to motivating your people is held within their language and culture.  He writes:\n   \n  “I have met many business people over the years that said that they don’t really have time to learn Thai\, but they really want to get a deeper understanding of the culture and things that they ‘should’ know.  What I have done is take some of my best learnings over the past 14 years of working as a business consultant / facilitator and trainer in Thailand and across Asia and put together my Cracking Thai Fundamentals Business Bootcamp.”\n   \n  The objectives include: \n   \n      * Understand what most Thais expect you to know (though in reality most expats don’t)\n\n        * Learn things that most Thais DON’T want you to know\n\n        * Demystify the Thai Language and Culture\n\n        * Examine case studies for ‘best practice’ Team Building in Thai companies\n\n        * Use Thai humour (not Farang) to get results\n\n   \n  Watch Stu explain why there is no such word as “yes” in Thai:\n  http://www.youtube.com/watch?v=uRvvZnKvXdM \n  \n\n  Here is a brief clip about the Cracking Thai Fundamentals Business Bootcamp:\n  http://www.youtube.com/watch?v=wVJrWfN5kEc\n\n   \n  BOOKINGS ARE ESSENTIAL!  The workshop is a high energy\, half day interactive session that is intentionally limited in size so that participants receive the full benefit of the program.\n   \n  Registration Form\n \n Proudly sponsored by: \n \n\n
DTSTAMP:20200228T051729Z
END:VEVENT
END:VCALENDAR
