BEGIN:VCALENDAR
VERSION:2.0
METHOD:PUBLISH
BEGIN:VEVENT
UID:WILD_APRICOT_EVENT_492134_SESSION_1
DTSTART:20120604T140000Z
DTEND:20120605T140000Z
SUMMARY:ATBC/AsiaLink Boardroom Luncheon with Ambassador James Wise
LOCATION:Melbourne
DESCRIPTION:http://aust-thai.org.au/event-492134\n\nMembers only event. 
DTSTAMP:20200228T051817Z
END:VEVENT
END:VCALENDAR
