BEGIN:VCALENDAR
VERSION:2.0
METHOD:PUBLISH
BEGIN:VEVENT
UID:WILD_APRICOT_EVENT_3578264_SESSION_1
DTSTART:20191021T053000Z
DTEND:20191021T080000Z
SUMMARY:ATBC Annual General Meeting 2019
LOCATION:Level 21\, 20 Bond Street\, Sydney NSW 2000
DESCRIPTION:http://aust-thai.org.au/event-3578264\n\n\nNotice of ATBC AGM 2019 \n  \n4:30pm - 7:00pm\, Monday 21st October 2019\n  \n\n  To all financial members of the ATBC\n \n Attached please find the formal notice of the 2019 AGM\, to be held at 4:30pm on Monday 21st October 2019 at the offices of our member\, Kingsgate Consolidated\, Level 21\, 20 Bond Street\, Sydney\, NSW 2000.\n \n Members can attend in person\, or by teleconference.\n \n Please contact the Council at info@aust-thai.org.au if you would like details of the conference call arrangements.\n  \n\n  In addition to considering the items as per the Agenda attached\, this meeting provides members with an opportunity to discuss possible events and activities for the year ahead.\n  \n\n  Any member wishing to nominate for an executive position on the Board of the Council is most welcome to advise their nomination to the Secretary at admin@aust-thai.org.au.\n  \n\n  We welcome your participation\, and it's been another big year already. \n  \n\n  If you are unable to make it for all the of the AGM\, please feel free to attend any part of it as there will be casual networking opportunities at the conclusion of the meeting and drinks and light refreshments will be served.\n  \n\n  On behalf of the Board we hope to see you there.\n  \n\n  Douglas Blunt\, \n  National President\n  m: 0412 211 339\n  \n\n  ATBC AGM 2019 Invitation and Proxy Form.doc\n  \n\n  ATBC AGM 2019 Agenda.docx\n\n
DTSTAMP:20200228T050647Z
END:VEVENT
END:VCALENDAR
