BEGIN:VCALENDAR
VERSION:2.0
METHOD:PUBLISH
BEGIN:VEVENT
UID:WILD_APRICOT_EVENT_3522630_SESSION_1
DTSTART:20190827T063000Z
DTEND:20190827T083000Z
SUMMARY:Australia’s Economic and Commercial Diplomacy – How Government can help businesses succeed internationally
LOCATION:MinterEllison\, Level 40\, Governor Macquarie Tower\, 1 Farrer Place\, Sydney\, NSW\, 2000
DESCRIPTION:http://aust-thai.org.au/event-3522630\n\n\n  \n\n  \n\n  Please click here for: Tickets\n  \n\n  \n\n  \n\n  \n\n
DTSTAMP:20200228T050729Z
END:VEVENT
END:VCALENDAR
