BEGIN:VCALENDAR
VERSION:2.0
METHOD:PUBLISH
BEGIN:VEVENT
UID:WILD_APRICOT_EVENT_3484891_SESSION_1
DTSTART:20190730T073000Z
DTEND:20190730T090000Z
SUMMARY:International Justice Mission - Partnerships That Stop Slavery
LOCATION:The Union Club\, 25 Bent Street\, Sydney
DESCRIPTION:http://aust-thai.org.au/event-3484891\n\n\n\n
DTSTAMP:20200228T050741Z
END:VEVENT
END:VCALENDAR
