BEGIN:VCALENDAR
VERSION:2.0
METHOD:PUBLISH
BEGIN:VEVENT
UID:WILD_APRICOT_EVENT_3464385_SESSION_1
DTSTART:20190724T223000Z
DTEND:20190725T010000Z
SUMMARY:Thailand: Unbeatable Business Opportunity
LOCATION:Amora Hotel 11 Jamison Street  Sydney\, NSW 2000
DESCRIPTION:http://aust-thai.org.au/event-3464385\n\n\n\n
DTSTAMP:20200228T050752Z
END:VEVENT
END:VCALENDAR
