BEGIN:VCALENDAR
VERSION:2.0
METHOD:PUBLISH
BEGIN:VEVENT
UID:WILD_APRICOT_EVENT_3305222_SESSION_1
DTSTART:20190330T000000Z
DTEND:20190331T090000Z
SUMMARY:Thailand Grand Festival - 30 to 31 March 2019\, 11am - 8pm at Tumbalong Park\, Darling Harbour\, Sydney
LOCATION:Tumbalong Park\, Darling Harbour\, Sydney
DESCRIPTION:http://aust-thai.org.au/event-3305222\n\nThailand Grand Festival 2019\n\n
DTSTAMP:20200228T050828Z
END:VEVENT
END:VCALENDAR
