BEGIN:VCALENDAR
VERSION:2.0
METHOD:PUBLISH
BEGIN:VEVENT
UID:WILD_APRICOT_EVENT_3095514_SESSION_1
DTSTART:20181015T060000Z
DTEND:20181015T080000Z
SUMMARY:Asian Ladies Mentoring Circle Event 15 October
LOCATION:CPA Australia\, Level 29\, 10 Eagle Street\, Brisbane\, QLD\, 4000
DESCRIPTION:http://aust-thai.org.au/event-3095514\n\nThe Australia Thailand Business Council is pleased to promote the: \n  \nAsian Ladies Mentoring Circle - 15 October Event  \n  \n\n  The Asian Ladies Mentoring Circle was founded by Cissy Ma (Chair\, CPA QLD Corporates Committee)\, Kaily Chua (Director\, Rodgers Reidy) and Vicky Wei (Head of Greater China from QIC). Their purpose is to provide group mentoring opportunities for Asian ladies to assist in their career advancement.\n  \n\n  The group meets once every one/two months and discuss topics of interest to the group. Group members currently include 200+ ladies from China\, Hong Kong\, Taiwan\, India\, Indonesia\, Japan\, Malaysia\, Vietnam\, Thailand\, Singapore\, Mongolia and the Philippines. They are from a diverse range of professions\, such as accounting\, finance\, legal\, engineering\, IT\, with various levels of career progression.\n  Click the link above for more details.\n  \n\n
DTSTAMP:20200228T050929Z
END:VEVENT
END:VCALENDAR
