BEGIN:VCALENDAR
VERSION:2.0
METHOD:PUBLISH
BEGIN:VEVENT
UID:WILD_APRICOT_EVENT_2996839_SESSION_1
DTSTART:20180725T080000Z
DTEND:20180725T100000Z
SUMMARY:Connections & Conversations - A networking evening of ASEAN Business Councils
LOCATION:NSW Trade & Investment | Level 48 MLC Centre | 19 Martin Place | Sydney NSW 2000
DESCRIPTION:http://aust-thai.org.au/event-2996839\n\nHello\,\n   \n  We are pleased to welcome you to an exciting event being held by the joint ASEAN Business Councils (Indonesia\, Malaysia\, Thailand and the Philippines) in partnership with NSW Trade & Investment.\n   \n  This networking evening is for participants to:\n      * Understand what each other does in different countries\;\n\n        * Forge new business relationships\;\n\n        * Network with representatives from our respective national trade and investment agencies\; and\n\n        * Hear an update from NSW Trade & Investment and Austrade on their ASEAN-related strategy and projects.\n\n   \n  Particularly relevant and timely given:\n      * the increased Australian economic\, political\, and community interest in ASEAN\;\n\n        * ASEAN economic integration\; and\n\n        * ASEAN as Australia's nearest neighbours and economic/trading bloc.\n\n   \n  We look forward to seeing you on July 25th!\n  \n\n  Click here to register\n  \n\n  \n\n  \n\n
DTSTAMP:20200228T050941Z
END:VEVENT
END:VCALENDAR
