BEGIN:VCALENDAR
VERSION:2.0
METHOD:PUBLISH
BEGIN:VEVENT
UID:WILD_APRICOT_EVENT_2992669_SESSION_1
DTSTART:20180716T213000Z
DTEND:20180717T003000Z
SUMMARY:Thailand Taking Off to New Heights 2018\, Perth
LOCATION:CCI Function Centre\, 180 Hay Street East Perth 6004
DESCRIPTION:http://aust-thai.org.au/event-2992669\n\nIn collaboration with Chamber of Commerce & Industry of Western Australia (CCIWA)\, Sydney BOI would like to promote and invite you to the BOI investment promotional seminar: \n  \n\n  Thailand Taking Off to New Heights 2018\, in Perth\, WA \n  on Tuesday\, 17 July 2018 from 8am - 10.30am. \n  \n\n  Please refer to the web link for your information and registration as follows.\n   \n  https://events.ticketbooth.com.au/event/thailand-taking-off-to-new-heights\n  \n\n
DTSTAMP:20200228T051003Z
END:VEVENT
END:VCALENDAR
