BEGIN:VCALENDAR
VERSION:2.0
METHOD:PUBLISH
BEGIN:VEVENT
UID:WILD_APRICOT_EVENT_2925933_SESSION_1
DTSTART:20180524T040000Z
DTEND:20180524T070000Z
SUMMARY:Board of Investment Promotional Seminar
LOCATION:Sydney
DESCRIPTION:http://aust-thai.org.au/event-2925933\n\n\nUpcoming Events\n           The Thailand Board of Investment (BOI) Sydney Office in collaboration\n    with Grant Thornton\, Brisbane and PriceWaterhouseCoopers\, Sydney is\n    pleased to announce the forthcoming 2018 Investment\n    Promotional Seminar in Brisbane\, Queensland (22nd May) and\n    Sydney\, New South Wales (24th May)\, respectively.\n    \n    It is our great pleasure to take this opportunity to invite you or\n    your representative to the event that might be of your\n    benefit in your business growth.\n     \n     \n    Please refer to the web link below for registration as follows online\n    by COB of 18th May 2018.\n     \n    22nd May 02:00pm – 5pm - BOI Sydney Seminar: \n    \n\n    Thailand Taking Off to New Heights - Sydney\n     \n    \n    For any additional information for this seminar\, please contact\n    BOI Sydney at 02 9252 4884 or email mailto:sydney@boi.go.th Thank you.\n   \n\n
DTSTAMP:20200228T051016Z
END:VEVENT
END:VCALENDAR
