BEGIN:VCALENDAR
VERSION:2.0
METHOD:PUBLISH
BEGIN:VEVENT
UID:WILD_APRICOT_EVENT_2925930_SESSION_1
DTSTART:20180521T230000Z
DTEND:20180522T023000Z
SUMMARY:Board of Investment Promotional Seminar
LOCATION:Brisbane
DESCRIPTION:http://aust-thai.org.au/event-2925930\n\n\nUpcoming Events\n           The Thailand Board of Investment (BOI) Sydney Office in collaboration\n    with Grant Thornton\, Brisbane and PriceWaterhouseCoopers\, Sydney\n    is pleased to announce the forthcoming 2018 Investment\n    Promotional Seminar in Brisbane\, Queensland (22nd May)\n    and Sydney\, New South Wales (24th May)\, respectively.\n    \n    It is our great pleasure to take this opportunity to invite you\n    or your representative to the event that might be\n    of your benefit in your business growth.\n     \n     \n    Please refer to the web link below for registration as follows online\n    by COB of 18th May 2018.\n     \n    22nd May 09:00am – 12:30pm - BOI Brisbane Seminar: \n    \n\n    Thailand Taking Off to New Heights - Brisbane\n     \n    For any additional information for this seminar\, please contact\n    BOI Sydney at 02 9252 4884 or email mailto: mailto:sydney@boi.go.th\n    Thank you.\n   \n\n
DTSTAMP:20200228T051028Z
END:VEVENT
END:VCALENDAR
