BEGIN:VCALENDAR
VERSION:2.0
METHOD:PUBLISH
BEGIN:VEVENT
UID:WILD_APRICOT_EVENT_2827366_SESSION_1
DTSTART:20180207T223000Z
DTEND:20180208T060000Z
SUMMARY:Thai Auto Parts Business Matching
LOCATION:Crown Promenade Hotel\, Melbourne
DESCRIPTION:http://aust-thai.org.au/event-2827366\n\nhttp://www.aust-thai.org.au/resources/Pictures/Auto%20Parts%20Business%20Matching%208%20Feb%202018.JPG\n\n
DTSTAMP:20200228T051054Z
END:VEVENT
END:VCALENDAR
