BEGIN:VCALENDAR
VERSION:2.0
METHOD:PUBLISH
BEGIN:VEVENT
UID:WILD_APRICOT_EVENT_2767699_SESSION_1
DTSTART:20180315T220000Z
DTEND:20180318T060000Z
SUMMARY:ASEAN-Australia Business Summit
LOCATION:Sydney
DESCRIPTION:http://aust-thai.org.au/event-2767699\n\nhttps://aseanaustralia.pmc.gov.au\n\n
DTSTAMP:20200228T051042Z
END:VEVENT
END:VCALENDAR
