BEGIN:VCALENDAR
VERSION:2.0
METHOD:PUBLISH
BEGIN:VEVENT
UID:WILD_APRICOT_EVENT_2690498_SESSION_1
DTSTART:20171108T000000Z
DTEND:20171108T020000Z
SUMMARY:ATBC 2017 AGM
LOCATION:Kingsgate\, Level 8\, 14 Martin Place\, Sydney\, NSW 2000
DESCRIPTION:http://aust-thai.org.au/event-2690498\n\nTo all financial members of the ATBC\n \n Attached please find the formal notice of the 2017 AGM to be held at 11am on Wednesday  8 November 2017 at the offices of our member\, Kingsgate Consolidated\,  Level 8\, 14 Martin Place\, Sydney\, NSW 2000.\n \n Members can attend in person\, or by teleconference.\n \n Please contact the Council at admin@aust-thai.org.au if you would like details of the conference call arrangements.\n\n  \n\n  In addition to considering the items as per the Agenda attached\, this meeting provides members with an opportunity to discuss possible events and activities for the year ahead.\n  \n\n  Any member wishing to nominate for an Executive position on the Board of the Council is most welcome to advise their nomination to the Secretary at admin@aust-thai.org.au.\n  \n\n  We welcome your participation.\n  \n\n  On behalf of the Board\n  \n\n  Douglas Blunt\, Joint National President\n  0412 211 339\n\n  \n\n  Attachments:\n  - Invitation and proxy re AGM  ATBC AGM 2017 Invitation and proxy.pdf\n  - AGM Agenda ATBC AGM 2017 Agenda.pdf\n  - Joint Presidents' Report Joint Presidents' Report to AGM 2017.pdf\n  \n\n
DTSTAMP:20200228T051117Z
END:VEVENT
END:VCALENDAR
