BEGIN:VCALENDAR
VERSION:2.0
METHOD:PUBLISH
BEGIN:VEVENT
UID:WILD_APRICOT_EVENT_2028079_SESSION_1
DTSTART:20150911T050000Z
DTEND:20150911T070000Z
SUMMARY:Why ASEAN? and Why Now?
LOCATION:Supper Room\, Melbourne Town Hall
DESCRIPTION:http://aust-thai.org.au/event-2028079\n\nThe Australia Thailand Business Council is pleased to partner with the Department of Foreign Affairs and Trade and Austrade in conjunction with the City of Melbourne to invite you to attend the:.\n  Why ASEAN and Why Now? \n  Business Seminar - Melbourne 11 September 2015\n   \n  Featuring:\n  Australia’s Ambassador to ASEAN\, Simon Merrifield\n  Australia’s Ambassador to the Philippines\, Bill Tweddell\n  Australia’s Ambassador to Thailand\, Paul Robilliard \n  Australia’s Ambassador to Myanmar\, Nicholas Coppel\n  Australia’s High Commissioner to Malaysia\, Rod Smith\n  and Senior Trade Commissioners from the region.\n   \n  Friday 11 September 2015\n  3.00 – 4.30 followed by networking drinks\n  Supper Room\, Melbourne Town Hall\n   \n  Over 11\,500 Australian companies export to the ASEAN region. Collective Australia-ASEAN two-way trade surpassed $100 billion in 2014. Australian investment in the region has nearly quadrupled over the past 10 years to $195 billion in 2014.\n   \n  This business seminar gives you the opportunity to talk with Australia’s top diplomats and Senior Trade Commissioners in ASEAN who will outline the opportunities and challenges presented by the region.  With the declaration of the ASEAN Economic Community (AEC) at the end of 2015\, it will be important for Australian companies to start to think of ASEAN as a single region.\n   \n  There is no charge to attend this event but registration is essential.\n   \n  Please register via Eventbrite by following the link below:\n  https://www.eventbrite.com.au/e/why-asean-and-why-now-business-seminar-tickets-18255176725\n  \nDownload Seminar Invitation: \n  \nWhy ASEAN and Why Now Business Seminar.pdf\n  \n\n
DTSTAMP:20200228T051247Z
END:VEVENT
END:VCALENDAR
