BEGIN:VCALENDAR
VERSION:2.0
METHOD:PUBLISH
BEGIN:VEVENT
UID:WILD_APRICOT_EVENT_1878233_SESSION_1
DTSTART:20150314T230000Z
DTEND:20150315T093000Z
SUMMARY:Melbourne's 12th Annual Thai Culture and Food Festival
LOCATION:Federation Square Melbourne AUSTRALIA
DESCRIPTION:http://aust-thai.org.au/event-1878233\n\n\n  \n\n  ATBC is pleased to be a Sponsor of Melbourne's 12th Annual Thai Culture and Food Festival at Federation Square on Sunday 15 March 2015.\n  \n\n  Our support of this event\, which is also sponsored by Thailand's Ministry of Foreign Affairs\, The Royal Thai Embassy Canberra\, Thai Tourism Authority\, Royal Thai Consul General -Victoria\, City of Melbourne\, Victorian Multicultural Commission  and Singha Beer\, reflect the strong linkage between business and culture.\n  \n\n  \n\n  The event has become the second largest Thai Festival outside of Thailand and on 4 stages at Federation Square will host Thai cultural performances\, Thai fashion parade\, a Thai Village\, Thai product stalls and information\, Thai Massage\, 20 restaurant stalls\; the Singha Beer garden and live music stage\, Muay Thai kick boxing demonstrations and cooking demonstrations by Gem TV's Duncan's Thai Kitchen celebrity chef Duncan Robertson.\n\n  \n\n  Last year's 2 day festival attracted 101\,000 visitors and visitor numbers this year (weather permitting) should exceed 50\,000.\n  \n\n  Spend a day in Thailand right in the heart of Melbourne and enjoy the sights\, sounds and tastes of Thailand - free entry!\n  \n\n  www.thaifestvic.com\n  www.facebook.com/thaifestvic\n  www.twitter.com/thaifestvic\n  \n\n  \n\n    \n\n  \n\n  \n\n  \n\n  \n\n  \n\n  \n\n  \n\n
DTSTAMP:20200228T051324Z
END:VEVENT
END:VCALENDAR
