BEGIN:VCALENDAR
VERSION:2.0
METHOD:PUBLISH
BEGIN:VEVENT
UID:WILD_APRICOT_EVENT_1846733_SESSION_1
DTSTART:20150125T003000Z
DTEND:20150125T040000Z
SUMMARY:AustCham Thailand Great Australia Day BBQ 2015
LOCATION:Shangri-La Hotel Bangkok
DESCRIPTION:http://aust-thai.org.au/event-1846733\n\nTHB 1\,850 Net for Buffet and 800 Net for Beverage Package - Regular Price\n THB 1\,500 Net for Buffet and 500 Net for Beverage Package - Special Price for those with Australian Passport or an Entry Stamp on their Passport to Australia\naustraliandaybbqflyercomp.jpg  \n\n  http://www.austchamthailand.com/event-1831161\n\n  \n\n
DTSTAMP:20200228T051350Z
END:VEVENT
END:VCALENDAR
