BEGIN:VCALENDAR
VERSION:2.0
METHOD:PUBLISH
BEGIN:VEVENT
UID:WILD_APRICOT_EVENT_1791575_SESSION_1
DTSTART:20141127T050000Z
DTEND:20141127T060000Z
SUMMARY:ATBC 2014 AGM
LOCATION:Kingsgate\, Suite 801\, Level 8\, 14 Martin Place Sydney 2000
DESCRIPTION:http://aust-thai.org.au/event-1791575\n\nMembers are invited to attend the 2014 AGM to be held at 4pm on Thursday 27 November 2014 at the Board Room of our member\, Kingsgate Consolidated\, Suite 801\, Level 8\, 14 Martin Place\, Sydney\, NSW 2000.\n \n A notice of meeting has been sent to all Members.\n \n Members can attend in person\, or by teleconference - please contact the Council at the admin@aust-thai.org.au if you would like details of the conference call arrangements.\n \n\n
DTSTAMP:20200228T051417Z
END:VEVENT
END:VCALENDAR
